BEGIN:VCALENDAR
VERSION:2.0
PRODID:-//KG. Blütenstädter e.V. Leichlingen  - ECPv6.15.20//NONSGML v1.0//EN
CALSCALE:GREGORIAN
METHOD:PUBLISH
X-WR-CALNAME:KG. Blütenstädter e.V. Leichlingen 
X-ORIGINAL-URL:https://kg-bluetenstaedter.de
X-WR-CALDESC:Veranstaltungen für KG. Blütenstädter e.V. Leichlingen 
REFRESH-INTERVAL;VALUE=DURATION:PT1H
X-Robots-Tag:noindex
X-PUBLISHED-TTL:PT1H
BEGIN:VTIMEZONE
TZID:Europe/Berlin
BEGIN:DAYLIGHT
TZOFFSETFROM:+0100
TZOFFSETTO:+0200
TZNAME:CEST
DTSTART:20230326T010000
END:DAYLIGHT
BEGIN:STANDARD
TZOFFSETFROM:+0200
TZOFFSETTO:+0100
TZNAME:CET
DTSTART:20231029T010000
END:STANDARD
BEGIN:DAYLIGHT
TZOFFSETFROM:+0100
TZOFFSETTO:+0200
TZNAME:CEST
DTSTART:20240331T010000
END:DAYLIGHT
BEGIN:STANDARD
TZOFFSETFROM:+0200
TZOFFSETTO:+0100
TZNAME:CET
DTSTART:20241027T010000
END:STANDARD
BEGIN:DAYLIGHT
TZOFFSETFROM:+0100
TZOFFSETTO:+0200
TZNAME:CEST
DTSTART:20250330T010000
END:DAYLIGHT
BEGIN:STANDARD
TZOFFSETFROM:+0200
TZOFFSETTO:+0100
TZNAME:CET
DTSTART:20251026T010000
END:STANDARD
END:VTIMEZONE
BEGIN:VEVENT
DTSTART;VALUE=DATE:20240908
DTEND;VALUE=DATE:20240909
DTSTAMP:20260419T214435
CREATED:20240628T104430Z
LAST-MODIFIED:20240628T104439Z
UID:649-1725753600-1725839999@kg-bluetenstaedter.de
SUMMARY:Radtour
DESCRIPTION:Eine gemütliche Radtour mit dem Verein
URL:https://kg-bluetenstaedter.de/event/radtour/
END:VEVENT
BEGIN:VEVENT
DTSTART;TZID=Europe/Berlin:20240922T150000
DTEND;TZID=Europe/Berlin:20240922T180000
DTSTAMP:20260419T214435
CREATED:20240924T113642Z
LAST-MODIFIED:20240924T113757Z
UID:680-1727017200-1727028000@kg-bluetenstaedter.de
SUMMARY:Teilnahme am Stadtfest Leichlingen
DESCRIPTION:Zum Stadtfest in Leichlingen treffen wir Blütenstädter uns zum „September-Stammtisch“ am So. 22.09.2024 um 15:00 Uhr am Weinstand vom Frauenchor „ConTakt 1949 e.V. Ihr seid herzlich eingeladen uns kennen zu lernen.
URL:https://kg-bluetenstaedter.de/event/teilnahme-am-stadtfest-leichlingen/
END:VEVENT
END:VCALENDAR