BEGIN:VCALENDAR
VERSION:2.0
PRODID:-//KG. Blütenstädter e.V. Leichlingen  - ECPv6.15.20//NONSGML v1.0//EN
CALSCALE:GREGORIAN
METHOD:PUBLISH
X-ORIGINAL-URL:https://kg-bluetenstaedter.de
X-WR-CALDESC:Veranstaltungen für KG. Blütenstädter e.V. Leichlingen 
REFRESH-INTERVAL;VALUE=DURATION:PT1H
X-Robots-Tag:noindex
X-PUBLISHED-TTL:PT1H
BEGIN:VTIMEZONE
TZID:Europe/Berlin
BEGIN:DAYLIGHT
TZOFFSETFROM:+0100
TZOFFSETTO:+0200
TZNAME:CEST
DTSTART:20240331T010000
END:DAYLIGHT
BEGIN:STANDARD
TZOFFSETFROM:+0200
TZOFFSETTO:+0100
TZNAME:CET
DTSTART:20241027T010000
END:STANDARD
BEGIN:DAYLIGHT
TZOFFSETFROM:+0100
TZOFFSETTO:+0200
TZNAME:CEST
DTSTART:20250330T010000
END:DAYLIGHT
BEGIN:STANDARD
TZOFFSETFROM:+0200
TZOFFSETTO:+0100
TZNAME:CET
DTSTART:20251026T010000
END:STANDARD
BEGIN:DAYLIGHT
TZOFFSETFROM:+0100
TZOFFSETTO:+0200
TZNAME:CEST
DTSTART:20260329T010000
END:DAYLIGHT
BEGIN:STANDARD
TZOFFSETFROM:+0200
TZOFFSETTO:+0100
TZNAME:CET
DTSTART:20261025T010000
END:STANDARD
END:VTIMEZONE
BEGIN:VEVENT
DTSTART;TZID=Europe/Berlin:20250202T130000
DTEND;TZID=Europe/Berlin:20250202T180000
DTSTAMP:20260419T150103
CREATED:20241006T130955Z
LAST-MODIFIED:20241006T131052Z
UID:741-1738501200-1738519200@kg-bluetenstaedter.de
SUMMARY:KinderKarnevalsParty in der Stadthalle Bergisch Neukirchen
DESCRIPTION:Wir freuen uns\, auch in der Session 2024/2025 eine KinderKarnevalsParty am So. 02.02.2025 in der Stadthalle Bergisch Neukirchen veranstalten zu können. \n(Vorab herzlichen Dank an den Betreiber der Stadthalle: Samet Dzeladini) \nDie KiKaParty startet um 14:11 (Einlass ab 13:00 Uhr) mit einem abwechslungsreichen Programm. \nEs erwarten uns Tanzgarden\, Clowns\, Luftballonkünstler\, die Opladener Kindertollitäten mir den „Pänz vom Rosenhügel“ und viele weitere Überraschungen. \n 
URL:https://kg-bluetenstaedter.de/event/kinderkarnevalsparty-in-der-stadthalle-bergisch-neukirchen/
ATTACH;FMTTYPE=image/png:https://kg-bluetenstaedter.de/wp-content/uploads/2024/10/WebHeader2023.png
END:VEVENT
END:VCALENDAR