BEGIN:VCALENDAR
VERSION:2.0
PRODID:-//KG. Blütenstädter e.V. Leichlingen  - ECPv6.15.20//NONSGML v1.0//EN
CALSCALE:GREGORIAN
METHOD:PUBLISH
X-ORIGINAL-URL:https://kg-bluetenstaedter.de
X-WR-CALDESC:Veranstaltungen für KG. Blütenstädter e.V. Leichlingen 
REFRESH-INTERVAL;VALUE=DURATION:PT1H
X-Robots-Tag:noindex
X-PUBLISHED-TTL:PT1H
BEGIN:VTIMEZONE
TZID:Europe/Berlin
BEGIN:DAYLIGHT
TZOFFSETFROM:+0100
TZOFFSETTO:+0200
TZNAME:CEST
DTSTART:20240331T010000
END:DAYLIGHT
BEGIN:STANDARD
TZOFFSETFROM:+0200
TZOFFSETTO:+0100
TZNAME:CET
DTSTART:20241027T010000
END:STANDARD
BEGIN:DAYLIGHT
TZOFFSETFROM:+0100
TZOFFSETTO:+0200
TZNAME:CEST
DTSTART:20250330T010000
END:DAYLIGHT
BEGIN:STANDARD
TZOFFSETFROM:+0200
TZOFFSETTO:+0100
TZNAME:CET
DTSTART:20251026T010000
END:STANDARD
BEGIN:DAYLIGHT
TZOFFSETFROM:+0100
TZOFFSETTO:+0200
TZNAME:CEST
DTSTART:20260329T010000
END:DAYLIGHT
BEGIN:STANDARD
TZOFFSETFROM:+0200
TZOFFSETTO:+0100
TZNAME:CET
DTSTART:20261025T010000
END:STANDARD
END:VTIMEZONE
BEGIN:VEVENT
DTSTART;TZID=Europe/Berlin:20250105T110000
DTEND;TZID=Europe/Berlin:20250105T143000
DTSTAMP:20260419T163342
CREATED:20241204T180518Z
LAST-MODIFIED:20241204T181205Z
UID:1095-1736074800-1736087400@kg-bluetenstaedter.de
SUMMARY:Neujahrsempfang
DESCRIPTION:Der traditionelle Neujahrsempfang der KG. Blütenstädter e.V. ist eine nicht öffentliche Veranstaltung für geladene Gäste. Die Verleihung des Großen Verdienstordens unserer K.G. ist ein Höhepunkt des Neujahrsempfangs\, bei dem herausragende Persönlichkeiten und Organisationen für ihren unermüdlichen Einsatz geehrt werden. Foto: Uwe Miserius (weitere Infos siehe: „über uns“)
URL:https://kg-bluetenstaedter.de/event/neujahrsempfang/
ATTACH;FMTTYPE=image/jpeg:https://kg-bluetenstaedter.de/wp-content/uploads/2024/12/w1900_h1467_x1796_y1387_rp_UMI_6461-fab4a5736ddac295-Uwe-Miserius-2.jpg
END:VEVENT
END:VCALENDAR