BEGIN:VCALENDAR
VERSION:2.0
PRODID:-//KG. Blütenstädter e.V. Leichlingen  - ECPv6.15.20//NONSGML v1.0//EN
CALSCALE:GREGORIAN
METHOD:PUBLISH
X-ORIGINAL-URL:https://kg-bluetenstaedter.de
X-WR-CALDESC:Veranstaltungen für KG. Blütenstädter e.V. Leichlingen 
REFRESH-INTERVAL;VALUE=DURATION:PT1H
X-Robots-Tag:noindex
X-PUBLISHED-TTL:PT1H
BEGIN:VTIMEZONE
TZID:Europe/Berlin
BEGIN:DAYLIGHT
TZOFFSETFROM:+0100
TZOFFSETTO:+0200
TZNAME:CEST
DTSTART:20230326T010000
END:DAYLIGHT
BEGIN:STANDARD
TZOFFSETFROM:+0200
TZOFFSETTO:+0100
TZNAME:CET
DTSTART:20231029T010000
END:STANDARD
BEGIN:DAYLIGHT
TZOFFSETFROM:+0100
TZOFFSETTO:+0200
TZNAME:CEST
DTSTART:20240331T010000
END:DAYLIGHT
BEGIN:STANDARD
TZOFFSETFROM:+0200
TZOFFSETTO:+0100
TZNAME:CET
DTSTART:20241027T010000
END:STANDARD
BEGIN:DAYLIGHT
TZOFFSETFROM:+0100
TZOFFSETTO:+0200
TZNAME:CEST
DTSTART:20250330T010000
END:DAYLIGHT
BEGIN:STANDARD
TZOFFSETFROM:+0200
TZOFFSETTO:+0100
TZNAME:CET
DTSTART:20251026T010000
END:STANDARD
END:VTIMEZONE
BEGIN:VEVENT
DTSTART;TZID=Europe/Berlin:20241207T130000
DTEND;TZID=Europe/Berlin:20241207T230000
DTSTAMP:20260419T181747
CREATED:20241006T133229Z
LAST-MODIFIED:20241110T210940Z
UID:745-1733576400-1733612400@kg-bluetenstaedter.de
SUMMARY:Fahrt zum Weihnachtsmarkt nach Schloss Grünewald (Solingen Gräfrath)
DESCRIPTION:Das ist bei den Blütenstädtern Tradition: \nDer Besuch eines besonderen Weihnachtsmarktes. \nAuch in diesem Jahr werden wir am Samstag nach dem Bratapfelfest (am 2. Adventswochenende) einen Weihnachtsmarkt mit einem besonderen weihnachtlichen Flair und mit besonderen weihnachtlichen „Highlights“ besuchen und uns von dieser Stimmung verzaubern und einfangen lassen. \n 
URL:https://kg-bluetenstaedter.de/event/fahrt-zum-weihnachtsmarkt-in-die-weihnachtsstadt-valkenburg-in-den-niederlanden/
ATTACH;FMTTYPE=image/jpeg:https://kg-bluetenstaedter.de/wp-content/uploads/2024/10/IMG-20211205-WA0004.1.jpg
END:VEVENT
END:VCALENDAR